BEGIN:VCALENDAR
VERSION:2.0
PRODID:-//BSVBB - ECPv6.15.20//NONSGML v1.0//EN
CALSCALE:GREGORIAN
METHOD:PUBLISH
X-ORIGINAL-URL:https://bsvbb.de
X-WR-CALDESC:Veranstaltungen für BSVBB
REFRESH-INTERVAL;VALUE=DURATION:PT1H
X-Robots-Tag:noindex
X-PUBLISHED-TTL:PT1H
BEGIN:VTIMEZONE
TZID:Europe/Berlin
BEGIN:DAYLIGHT
TZOFFSETFROM:+0100
TZOFFSETTO:+0200
TZNAME:CEST
DTSTART:20250330T010000
END:DAYLIGHT
BEGIN:STANDARD
TZOFFSETFROM:+0200
TZOFFSETTO:+0100
TZNAME:CET
DTSTART:20251026T010000
END:STANDARD
BEGIN:DAYLIGHT
TZOFFSETFROM:+0100
TZOFFSETTO:+0200
TZNAME:CEST
DTSTART:20260329T010000
END:DAYLIGHT
BEGIN:STANDARD
TZOFFSETFROM:+0200
TZOFFSETTO:+0100
TZNAME:CET
DTSTART:20261025T010000
END:STANDARD
BEGIN:DAYLIGHT
TZOFFSETFROM:+0100
TZOFFSETTO:+0200
TZNAME:CEST
DTSTART:20270328T010000
END:DAYLIGHT
BEGIN:STANDARD
TZOFFSETFROM:+0200
TZOFFSETTO:+0100
TZNAME:CET
DTSTART:20271031T010000
END:STANDARD
END:VTIMEZONE
BEGIN:VEVENT
DTSTART;TZID=Europe/Berlin:20260228T083000
DTEND;TZID=Europe/Berlin:20260228T180000
DTSTAMP:20260421T125333
CREATED:20260101T195212Z
LAST-MODIFIED:20260207T132049Z
UID:10000006-1772267400-1772301600@bsvbb.de
SUMMARY:Auswahltraining U16+U19 Softball
DESCRIPTION:Bitte den Link zur Anmeldung nutzen. \n  \nSichtungstraining für die U16+U19 Auswahl Softball \nGenaue Uhrzeit wird nach Anmeldefrist bekanntgegeben. \nSpontane Absagen über sd@bsvbb.de oder 0162/2645460\nBei Änderungswünsche im Terminplan sd@bsvbb.de oder 0162/2645460 kontaktieren
URL:https://bsvbb.de/event/auswahltraining-u16-softball-2/
LOCATION:Otto-Hahn-Schule\, Haarlemer-Straße 21\, Berlin\, 12359\, Germany
CATEGORIES:Sichtung,Softball,U16,U19
ATTACH;FMTTYPE=image/jpeg:https://bsvbb.de/wp-content/uploads/2026/01/pexels-26619470-e1767297562469.jpeg
END:VEVENT
BEGIN:VEVENT
DTSTART;TZID=Europe/Berlin:20260228T083000
DTEND;TZID=Europe/Berlin:20260228T180000
DTSTAMP:20260421T125333
CREATED:20260101T194735Z
LAST-MODIFIED:20260207T132000Z
UID:10000005-1772267400-1772301600@bsvbb.de
SUMMARY:Auswahltraining U13 Softball
DESCRIPTION:Bitte den Link zur Anmeldung nutzen. \nSichtungstraining für die U13 Auswahl Softball\, Jahrgänge 2013 und jünger \nGenaue Uhrzeit wird nach Anmeldefrist bekanntgegeben. \nSpontane Absagen über sd@bsvbb.de oder 0162/2645460\nBei Änderungswünsche im Terminplan sd@bsvbb.de oder 0162/2645460 kontaktieren
URL:https://bsvbb.de/event/auswahltraining-u13-softball-2/
LOCATION:Otto-Hahn-Schule\, Haarlemer-Straße 21\, Berlin\, 12359\, Germany
CATEGORIES:Sichtung,Softball,U13
ATTACH;FMTTYPE=image/jpeg:https://bsvbb.de/wp-content/uploads/2026/01/pexels-26619470-e1767297562469.jpeg
END:VEVENT
BEGIN:VEVENT
DTSTART;TZID=Europe/Berlin:20260214T120000
DTEND;TZID=Europe/Berlin:20260214T170000
DTSTAMP:20260421T125333
CREATED:20260101T194415Z
LAST-MODIFIED:20260207T131902Z
UID:10000004-1771070400-1771088400@bsvbb.de
SUMMARY:Auswahltraining U16+U19 Softball
DESCRIPTION:Bitte Link zur Anmeldung nutzen. \nSichtungstraining für die U16+U19 Auswahl Softball \nSpontane Absagen über sd@bsvbb.de oder 0162/2645460\nBei Änderungswünsche im Terminplan sd@bsvbb.de oder 0162/2645460 kontaktieren
URL:https://bsvbb.de/event/auswahltraining-u16-softball/
LOCATION:Otto-Hahn-Schule\, Haarlemer-Straße 21\, Berlin\, 12359\, Germany
CATEGORIES:Sichtung,Softball,U16,U19
ATTACH;FMTTYPE=image/jpeg:https://bsvbb.de/wp-content/uploads/2026/01/pexels-26619470-e1767297562469.jpeg
END:VEVENT
BEGIN:VEVENT
DTSTART;TZID=Europe/Berlin:20260214T093000
DTEND;TZID=Europe/Berlin:20260214T120000
DTSTAMP:20260421T125333
CREATED:20260207T083052Z
LAST-MODIFIED:20260207T131624Z
UID:10000003-1771061400-1771070400@bsvbb.de
SUMMARY:Auswahltraining U13 Softball
DESCRIPTION:Bitte den Link zur Anmeldung nutzen. \nSichtungstraining für die U13 Auswahl Softball\, Jahrgänge 2013 und jünger \nSpontane Absagen über sd@bsvbb.de oder 0162/2645460\nBei Änderungswünsche im Terminplan sd@bsvbb.de oder 0162/2645460 kontaktieren
URL:https://bsvbb.de/event/auswahltraining-u13-softball/
LOCATION:Otto-Hahn-Schule\, Haarlemer-Straße 21\, Berlin\, 12359\, Germany
CATEGORIES:Sichtung,Softball,U13
ATTACH;FMTTYPE=image/jpeg:https://bsvbb.de/wp-content/uploads/2026/01/pexels-26619470-e1767297562469.jpeg
END:VEVENT
END:VCALENDAR