BEGIN:VCALENDAR
VERSION:2.0
PRODID:-//BSVBB - ECPv6.15.20//NONSGML v1.0//EN
CALSCALE:GREGORIAN
METHOD:PUBLISH
X-ORIGINAL-URL:https://bsvbb.de
X-WR-CALDESC:Veranstaltungen für BSVBB
REFRESH-INTERVAL;VALUE=DURATION:PT1H
X-Robots-Tag:noindex
X-PUBLISHED-TTL:PT1H
BEGIN:VTIMEZONE
TZID:Europe/Berlin
BEGIN:DAYLIGHT
TZOFFSETFROM:+0100
TZOFFSETTO:+0200
TZNAME:CEST
DTSTART:20250330T010000
END:DAYLIGHT
BEGIN:STANDARD
TZOFFSETFROM:+0200
TZOFFSETTO:+0100
TZNAME:CET
DTSTART:20251026T010000
END:STANDARD
BEGIN:DAYLIGHT
TZOFFSETFROM:+0100
TZOFFSETTO:+0200
TZNAME:CEST
DTSTART:20260329T010000
END:DAYLIGHT
BEGIN:STANDARD
TZOFFSETFROM:+0200
TZOFFSETTO:+0100
TZNAME:CET
DTSTART:20261025T010000
END:STANDARD
BEGIN:DAYLIGHT
TZOFFSETFROM:+0100
TZOFFSETTO:+0200
TZNAME:CEST
DTSTART:20270328T010000
END:DAYLIGHT
BEGIN:STANDARD
TZOFFSETFROM:+0200
TZOFFSETTO:+0100
TZNAME:CET
DTSTART:20271031T010000
END:STANDARD
END:VTIMEZONE
BEGIN:VEVENT
DTSTART;VALUE=DATE:20260613
DTEND;VALUE=DATE:20260615
DTSTAMP:20260422T124407
CREATED:20260216T183010Z
LAST-MODIFIED:20260216T183010Z
UID:10000018-1781308800-1781481599@bsvbb.de
SUMMARY:Familiensportfest 2026
DESCRIPTION:Am 13. und 14. Juni 2026 findet das große Familiensportfest erstmals im Sportforum Berlin in Hohenschönhausen statt.
URL:https://bsvbb.de/event/familiensportfest-2026/
LOCATION:Sportforum Berlin\, Weißenseer Weg 53\, Berlin\, Berlin\, 13053\, Germany
CATEGORIES:BSJBB,Verband
ATTACH;FMTTYPE=image/jpeg:https://bsvbb.de/wp-content/uploads/Logos/75375645_2171838762918268_8027151403568857088_n.jpg
END:VEVENT
END:VCALENDAR